BEGIN:VCALENDAR
VERSION:2.0
PRODID:-//HSMAI MEA - ECPv6.15.20//NONSGML v1.0//EN
CALSCALE:GREGORIAN
METHOD:PUBLISH
X-ORIGINAL-URL:https://hsmaime.org
X-WR-CALDESC:Events for HSMAI MEA
REFRESH-INTERVAL;VALUE=DURATION:PT1H
X-Robots-Tag:noindex
X-PUBLISHED-TTL:PT1H
BEGIN:VTIMEZONE
TZID:UTC
BEGIN:STANDARD
TZOFFSETFROM:+0000
TZOFFSETTO:+0000
TZNAME:UTC
DTSTART:20250101T000000
END:STANDARD
END:VTIMEZONE
BEGIN:VEVENT
DTSTART;TZID=UTC:20260909T160000
DTEND;TZID=UTC:20260909T170000
DTSTAMP:20260422T121208
CREATED:20260210T184906Z
LAST-MODIFIED:20260210T184906Z
UID:6105-1788969600-1788973200@hsmaime.org
SUMMARY:Certified in Hospitality Business Acumen (CHBA)
DESCRIPTION:[vc_row][vc_column][vc_btn title=”SIGN UP NOW” color=”violet” i_icon_fontawesome=”fa fa-solid fa-cart-plus” add_icon=”true” link=”url:https%3A%2F%2Fhsmaime.org%2Fproduct%2Fcertified-in-hospitality-business-acumen%2F”][/vc_column][/vc_row]
URL:https://hsmaime.org/event/certified-in-hospitality-business-acumen-chba-10/2026-09-09/
LOCATION:Online
CATEGORIES:Classes
ATTACH;FMTTYPE=image/png:https://hsmaime.org/wp-content/uploads/sites/22/2026/02/chba-september-scaled.png
END:VEVENT
BEGIN:VEVENT
DTSTART;TZID=UTC:20260916T160000
DTEND;TZID=UTC:20260916T170000
DTSTAMP:20260422T121208
CREATED:20260210T184906Z
LAST-MODIFIED:20260210T184906Z
UID:6107-1789574400-1789578000@hsmaime.org
SUMMARY:Certified in Hospitality Business Acumen (CHBA)
DESCRIPTION:[vc_row][vc_column][vc_btn title=”SIGN UP NOW” color=”violet” i_icon_fontawesome=”fa fa-solid fa-cart-plus” add_icon=”true” link=”url:https%3A%2F%2Fhsmaime.org%2Fproduct%2Fcertified-in-hospitality-business-acumen%2F”][/vc_column][/vc_row]
URL:https://hsmaime.org/event/certified-in-hospitality-business-acumen-chba-10/2026-09-16/
LOCATION:Online
CATEGORIES:Classes
ATTACH;FMTTYPE=image/png:https://hsmaime.org/wp-content/uploads/sites/22/2026/02/chba-september-scaled.png
END:VEVENT
BEGIN:VEVENT
DTSTART;TZID=UTC:20260923T160000
DTEND;TZID=UTC:20260923T170000
DTSTAMP:20260422T121208
CREATED:20260210T184906Z
LAST-MODIFIED:20260210T184906Z
UID:6108-1790179200-1790182800@hsmaime.org
SUMMARY:Certified in Hospitality Business Acumen (CHBA)
DESCRIPTION:[vc_row][vc_column][vc_btn title=”SIGN UP NOW” color=”violet” i_icon_fontawesome=”fa fa-solid fa-cart-plus” add_icon=”true” link=”url:https%3A%2F%2Fhsmaime.org%2Fproduct%2Fcertified-in-hospitality-business-acumen%2F”][/vc_column][/vc_row]
URL:https://hsmaime.org/event/certified-in-hospitality-business-acumen-chba-10/2026-09-23/
LOCATION:Online
CATEGORIES:Classes
ATTACH;FMTTYPE=image/png:https://hsmaime.org/wp-content/uploads/sites/22/2026/02/chba-september-scaled.png
END:VEVENT
BEGIN:VEVENT
DTSTART;TZID=UTC:20260930T160000
DTEND;TZID=UTC:20260930T170000
DTSTAMP:20260422T121208
CREATED:20260210T184906Z
LAST-MODIFIED:20260210T184906Z
UID:6109-1790784000-1790787600@hsmaime.org
SUMMARY:Certified in Hospitality Business Acumen (CHBA)
DESCRIPTION:[vc_row][vc_column][vc_btn title=”SIGN UP NOW” color=”violet” i_icon_fontawesome=”fa fa-solid fa-cart-plus” add_icon=”true” link=”url:https%3A%2F%2Fhsmaime.org%2Fproduct%2Fcertified-in-hospitality-business-acumen%2F”][/vc_column][/vc_row]
URL:https://hsmaime.org/event/certified-in-hospitality-business-acumen-chba-10/2026-09-30/
LOCATION:Online
CATEGORIES:Classes
ATTACH;FMTTYPE=image/png:https://hsmaime.org/wp-content/uploads/sites/22/2026/02/chba-september-scaled.png
END:VEVENT
BEGIN:VEVENT
DTSTART;TZID=UTC:20261007T160000
DTEND;TZID=UTC:20261007T170000
DTSTAMP:20260422T121208
CREATED:20260210T184906Z
LAST-MODIFIED:20260210T184906Z
UID:6110-1791388800-1791392400@hsmaime.org
SUMMARY:Certified in Hospitality Business Acumen (CHBA)
DESCRIPTION:[vc_row][vc_column][vc_btn title=”SIGN UP NOW” color=”violet” i_icon_fontawesome=”fa fa-solid fa-cart-plus” add_icon=”true” link=”url:https%3A%2F%2Fhsmaime.org%2Fproduct%2Fcertified-in-hospitality-business-acumen%2F”][/vc_column][/vc_row]
URL:https://hsmaime.org/event/certified-in-hospitality-business-acumen-chba-10/2026-10-07/
LOCATION:Online
CATEGORIES:Classes
ATTACH;FMTTYPE=image/png:https://hsmaime.org/wp-content/uploads/sites/22/2026/02/chba-september-scaled.png
END:VEVENT
END:VCALENDAR