BEGIN:VCALENDAR
VERSION:2.0
PRODID:-//HSMAI MEA - ECPv6.15.20//NONSGML v1.0//EN
CALSCALE:GREGORIAN
METHOD:PUBLISH
X-ORIGINAL-URL:https://hsmaime.org
X-WR-CALDESC:Events for HSMAI MEA
REFRESH-INTERVAL;VALUE=DURATION:PT1H
X-Robots-Tag:noindex
X-PUBLISHED-TTL:PT1H
BEGIN:VTIMEZONE
TZID:UTC
BEGIN:STANDARD
TZOFFSETFROM:+0000
TZOFFSETTO:+0000
TZNAME:UTC
DTSTART:20230101T000000
END:STANDARD
END:VTIMEZONE
BEGIN:VTIMEZONE
TZID:Asia/Dubai
BEGIN:STANDARD
TZOFFSETFROM:+0400
TZOFFSETTO:+0400
TZNAME:+04
DTSTART:20220101T000000
END:STANDARD
END:VTIMEZONE
BEGIN:VEVENT
DTSTART;TZID=UTC:20260415T160000
DTEND;TZID=UTC:20260415T170000
DTSTAMP:20260422T115514
CREATED:20260210T183843Z
LAST-MODIFIED:20260325T072434Z
UID:6092-1776268800-1776272400@hsmaime.org
SUMMARY:Certified in Hospitality Business Acumen (CHBA) - Cancelled
DESCRIPTION:[vc_row][vc_column][vc_btn title=”SIGN UP NOW” color=”violet” i_icon_fontawesome=”fa fa-solid fa-cart-plus” add_icon=”true” link=”url:http%3A%2F%2FCertified%20in%20Hospitality%20Business%20Acumen%20(CHBA)|target:_blank”][/vc_column][/vc_row]
URL:https://hsmaime.org/event/certified-in-hospitality-business-acumen-chba-8/2026-04-15/
LOCATION:Online
CATEGORIES:Classes
ATTACH;FMTTYPE=image/png:https://hsmaime.org/wp-content/uploads/sites/22/2026/02/chba-april-cxl-scaled.png
END:VEVENT
BEGIN:VEVENT
DTSTART;TZID=UTC:20250709T160000
DTEND;TZID=UTC:20250709T170000
DTSTAMP:20260422T115514
CREATED:20250227T090453Z
LAST-MODIFIED:20250604T070814Z
UID:5184-1752076800-1752080400@hsmaime.org
SUMMARY:Certified in Hospitality Business Acumen (CHBA) - SOLD OUT!
DESCRIPTION:[vc_row][vc_column][vc_column_text css=”.vc_custom_1740729919848{margin-bottom: 0px !important;}”]The CHBA is a professional certification for hoteliers\, validating your expertise and mastery in the hospitality industry. It goes beyond enhancing your skill set—it equips you with comprehensive knowledge to effectively manage all facets of a hospitality operation. By earning this certification\, you position yourself as a leader in the field\, gaining a competitive edge and unlocking exciting new opportunities for career growth and long-term success.[/vc_column_text][vc_btn title=”Download Course Decription” color=”violet” i_icon_fontawesome=”fas fa-download” css=”” add_icon=”true” link=”url:https%3A%2F%2Fdrive.google.com%2Ffile%2Fd%2F1KUjgkKyjyruZ7AcfwsQektIlrfJzeH5M%2Fview%3Fusp%3Ddrive_link|target:_blank”][/vc_column][/vc_row][vc_row][vc_column width=”1/2″][vc_btn title=”APPLY NOW” color=”violet” i_icon_fontawesome=”fas fa-hand-point-right” css=”” add_icon=”true” link=”url:https%3A%2F%2Fhsmaime.org%2Fcertified-in-hospitality-business-acumen-chba%2F|target:_blank”][/vc_column][vc_column width=”1/2″][/vc_column][/vc_row]
URL:https://hsmaime.org/event/certified-in-hospitality-business-acumen-chba-6/2025-07-09/
LOCATION:Virtual
CATEGORIES:Classes
ATTACH;FMTTYPE=image/png:https://hsmaime.org/wp-content/uploads/sites/22/2025/02/chba-jun-2025-1400-x-700-px-1.png
END:VEVENT
BEGIN:VEVENT
DTSTART;TZID=Asia/Dubai:20241023T160000
DTEND;TZID=Asia/Dubai:20241023T170000
DTSTAMP:20260422T115514
CREATED:20240807T115022Z
LAST-MODIFIED:20240807T122712Z
UID:4810-1729699200-1729702800@hsmaime.org
SUMMARY:Certified in Hospitality Business Acumen (CHBA)
DESCRIPTION:[vc_row][vc_column][vc_column_text css=”.vc_custom_1723033596245{margin-bottom: 0px !important;}”]The CHBA program allows you to demonstrate your hospitality business acumen proficiency\, upgrade your skills\, and elevate your understanding of the hospitality industry and how it operates. It demonstrates to your employer and your professional community that you’re committed to advancing your knowledge\, skillset\, and expertise.[/vc_column_text][/vc_column][/vc_row][vc_row][vc_column][vc_btn title=”Sign Up Now” color=”violet” css=”” link=”url:https%3A%2F%2Fhsmaime.org%2Fproduct%2Fcertified-in-hospitality-business-acumen%2F|target:_blank”][/vc_column][/vc_row]
URL:https://hsmaime.org/event/certified-in-hospitality-business-acumen-chba-5/2024-10-23/
LOCATION:Online Web Series
CATEGORIES:Classes
ATTACH;FMTTYPE=image/png:https://hsmaime.org/wp-content/uploads/sites/22/2024/08/4-chba-1200-1200-px.png
END:VEVENT
BEGIN:VEVENT
DTSTART;TZID=UTC:20240131T160000
DTEND;TZID=UTC:20240131T170000
DTSTAMP:20260422T115514
CREATED:20240109T033441Z
LAST-MODIFIED:20240131T052123Z
UID:4185-1706716800-1706720400@hsmaime.org
SUMMARY:Certified in Hospitality Business Acumen (CHBA)
DESCRIPTION:Led by Heidi Anaya\, CHBA Head of Education at Russell Partnership\, the CHBA program offers a unique learning experience. Participants will step into the shoes of a Hotel General Manager\, facing real-time decisions on pricing strategies\, marketing and advertising campaigns\, staffing needs\, and capital investments within a competitive set of properties. This immersive 12-month business cycle simulation will provide invaluable insights and skills.
URL:https://hsmaime.org/event/certified-in-hospitality-business-acumen-chba-3/2024-01-31/
LOCATION:Virtual
CATEGORIES:Classes
ATTACH;FMTTYPE=image/png:https://hsmaime.org/wp-content/uploads/sites/22/2024/01/chba-jan-1200-1200-px.png
END:VEVENT
BEGIN:VEVENT
DTSTART;TZID=Asia/Dubai:20231025T160000
DTEND;TZID=Asia/Dubai:20231025T170000
DTSTAMP:20260422T115514
CREATED:20230710T134235Z
LAST-MODIFIED:20230822T091348Z
UID:3729-1698249600-1698253200@hsmaime.org
SUMMARY:Certified in Hospitality Business Acumen (CHBA) - Instructor-Led 5-week Class
DESCRIPTION:The course enables participants to demonstrate their hospitality business acumen proficiency\, upgrade their skills\, and drives an elevated understanding of the hospitality industry and how it operates. It demonstrates to your employer and your professional community that you’re committed to advancing your knowledge\, skillset\, and expertise.
URL:https://hsmaime.org/event/certified-in-hospitality-business-acumen-chba-2/2023-10-25/
LOCATION:Online Web Series
CATEGORIES:Classes
ATTACH;FMTTYPE=image/jpeg:https://hsmaime.org/wp-content/uploads/sites/22/2022/11/chba-1.jpeg
END:VEVENT
END:VCALENDAR