BEGIN:VCALENDAR
VERSION:2.0
PRODID:-//HSMAI MEA - ECPv6.15.20//NONSGML v1.0//EN
CALSCALE:GREGORIAN
METHOD:PUBLISH
X-ORIGINAL-URL:https://hsmaime.org
X-WR-CALDESC:Events for HSMAI MEA
REFRESH-INTERVAL;VALUE=DURATION:PT1H
X-Robots-Tag:noindex
X-PUBLISHED-TTL:PT1H
BEGIN:VTIMEZONE
TZID:UTC
BEGIN:STANDARD
TZOFFSETFROM:+0000
TZOFFSETTO:+0000
TZNAME:UTC
DTSTART:20220101T000000
END:STANDARD
END:VTIMEZONE
BEGIN:VTIMEZONE
TZID:Asia/Riyadh
BEGIN:STANDARD
TZOFFSETFROM:+0300
TZOFFSETTO:+0300
TZNAME:+03
DTSTART:20220101T000000
END:STANDARD
END:VTIMEZONE
BEGIN:VTIMEZONE
TZID:Asia/Dubai
BEGIN:STANDARD
TZOFFSETFROM:+0400
TZOFFSETTO:+0400
TZNAME:+04
DTSTART:20230101T000000
END:STANDARD
END:VTIMEZONE
BEGIN:VEVENT
DTSTART;TZID=UTC:20250918T183000
DTEND;TZID=UTC:20250918T203000
DTSTAMP:20260422T154835
CREATED:20250311T131014Z
LAST-MODIFIED:20250825T060704Z
UID:5249-1758220200-1758227400@hsmaime.org
SUMMARY:Thirsty Thursday
DESCRIPTION:HSMAI MEA’s Thirsty Thursday is the perfect midweek escape\, offering a refreshing break in some of Dubai’s most sophisticated venues. This event provides an excellent opportunity for networking and relaxation\, set against the backdrop of the city’s swankiest spots. Designed to bring together professionals from the hospitality industry\, Thirsty Thursday is a must-attend for anyone looking to unwind and connect in style.
URL:https://hsmaime.org/event/thirsty-thursday-11/
LOCATION:Malibu Sky Lounge & Bar\, Paramount Hotel Midtown 113797 - Al Mustaqbal St - Business Bay\, Dubai\, United Arab Emirates
CATEGORIES:Networking
ATTACH;FMTTYPE=image/png:https://hsmaime.org/wp-content/uploads/sites/22/2025/03/9-sep-2.png
END:VEVENT
BEGIN:VEVENT
DTSTART;TZID=UTC:20250821T183000
DTEND;TZID=UTC:20250821T203000
DTSTAMP:20260422T154835
CREATED:20250311T130155Z
LAST-MODIFIED:20250623T063345Z
UID:5247-1755801000-1755808200@hsmaime.org
SUMMARY:Thirsty Thursday
DESCRIPTION:HSMAI MEA’s Thirsty Thursday is the perfect midweek escape\, offering a refreshing break in some of Dubai’s most sophisticated venues. This event provides an excellent opportunity for networking and relaxation\, set against the backdrop of the city’s swankiest spots. Designed to bring together professionals from the hospitality industry\, Thirsty Thursday is a must-attend for anyone looking to unwind and connect in style.
URL:https://hsmaime.org/event/thirsty-thursday-10/
CATEGORIES:Networking
ATTACH;FMTTYPE=image/png:https://hsmaime.org/wp-content/uploads/sites/22/2025/03/8-aug-1.png
END:VEVENT
BEGIN:VEVENT
DTSTART;TZID=UTC:20250515T183000
DTEND;TZID=UTC:20250515T203000
DTSTAMP:20260422T154835
CREATED:20250304T090632Z
LAST-MODIFIED:20250508T113615Z
UID:5201-1747333800-1747341000@hsmaime.org
SUMMARY:Thirsty Thursday
DESCRIPTION:[vc_row][vc_column][vc_column_text]HSMAI MEA’s Thirsty Thursday is the perfect midweek escape\, offering a refreshing break in some of Dubai’s most sophisticated venues. This event provides an excellent opportunity for networking and relaxation\, set against the backdrop of the city’s swankiest spots. Designed to bring together professionals from the hospitality industry\, Thirsty Thursday is a must-attend for anyone looking to unwind and connect in style.[/vc_column_text][/vc_column][/vc_row][vc_row][vc_column][vc_btn title=”Sign up NOW” color=”violet” i_icon_fontawesome=”fas fa-hand-point-right” css=”” add_icon=”true” link=”url:https%3A%2F%2Fhsmaime.org%2Fproduct%2Fttdxb%2F|target:_blank”][/vc_column][/vc_row]
URL:https://hsmaime.org/event/thirsty-thursday-7/
CATEGORIES:Networking
ATTACH;FMTTYPE=image/png:https://hsmaime.org/wp-content/uploads/sites/22/2025/05/tt-2025-15-may-600x250-1.png
END:VEVENT
BEGIN:VEVENT
DTSTART;TZID=UTC:20250417T183000
DTEND;TZID=UTC:20250417T203000
DTSTAMP:20260422T154835
CREATED:20250304T084517Z
LAST-MODIFIED:20250325T154850Z
UID:5199-1744914600-1744921800@hsmaime.org
SUMMARY:Thirsty Thursday
DESCRIPTION:[vc_row][vc_column][vc_column_text css=”.vc_custom_1742903970185{margin-bottom: 0px !important;}”]HSMAI MEA’s Thirsty Thursday is the perfect midweek escape\, offering a refreshing break in some of Dubai’s most sophisticated venues. This event provides an excellent opportunity for networking and relaxation\, set against the backdrop of the city’s swankiest spots. Designed to bring together professionals from the hospitality industry\, Thirsty Thursday is a must-attend for anyone looking to unwind and connect in style.[/vc_column_text][/vc_column][/vc_row][vc_row][vc_column][vc_btn title=”Sign up NOW” color=”violet” i_icon_fontawesome=”fas fa-hand-point-right” css=”” add_icon=”true” link=”url:https%3A%2F%2Fhsmaime.org%2Fthirsty-thursday%2F|title:Sign%20up%20NOW|target:_blank”][/vc_column][/vc_row][vc_row][vc_column][/vc_column][/vc_row]
URL:https://hsmaime.org/event/thirsty-thursday-6/
LOCATION:Twenty Three Rooftop Bar\, Grand Plaza Mövenpick Media City\, Dubai\, United Arab Emirates
CATEGORIES:Networking
ATTACH;FMTTYPE=image/png:https://hsmaime.org/wp-content/uploads/sites/22/2025/03/4-apr-1.png
END:VEVENT
BEGIN:VEVENT
DTSTART;TZID=UTC:20241212T183000
DTEND;TZID=UTC:20241212T203000
DTSTAMP:20260422T154835
CREATED:20240109T053841Z
LAST-MODIFIED:20241105T124711Z
UID:4217-1734028200-1734035400@hsmaime.org
SUMMARY:Thirsty Thursday
DESCRIPTION:Thirsty Thursdays in the UAE \nHotel Members: AED 200 | Hotel Non Members: AED 250 Partner Member AED 300 | Partner Non Member AED 350\nEach includes 2 thirst quenching refreshments\, nibble\, and gameplay
URL:https://hsmaime.org/event/thirsty-thursdays-10/
LOCATION:TopGolf\, Emirates Golf Club\, Dubai
CATEGORIES:Networking
ATTACH;FMTTYPE=image/jpeg:https://hsmaime.org/wp-content/uploads/sites/22/2024/01/topgolf.jpg
END:VEVENT
BEGIN:VEVENT
DTSTART;TZID=UTC:20241121T183000
DTEND;TZID=UTC:20241121T203000
DTSTAMP:20260422T154835
CREATED:20240109T053253Z
LAST-MODIFIED:20241014T133028Z
UID:4215-1732213800-1732221000@hsmaime.org
SUMMARY:Thirsty Thursday
DESCRIPTION:[vc_row][vc_column][vc_column_text]UAE’s Thirsty Thursday is the perfect midweek escape\, offering a refreshing break in some of Dubai’s most sophisticated venues. This event provides an excellent opportunity for networking and relaxation\, set against the backdrop of the city’s swankiest spots. Designed to bring together professionals from the hospitality industry\, Thirsty Thursday is a must-attend for anyone looking to unwind and connect in style. \nClick here to find out more.[/vc_column_text][/vc_column][/vc_row][vc_row][vc_column][vc_btn title=”Register Now” color=”violet” css=”” link=”url:https%3A%2F%2Fhsmaime.org%2Fproduct%2Fttdxb%2F|title:Thirsty%20Thursday|target:_blank”][vc_empty_space height=”25px”][/vc_column][/vc_row][vc_row][vc_column][mk_image src=”https://hsmaime.org/wp-content/uploads/sites/22/2024/01/why-attend-banner_tt.png” image_size=”full”][vc_empty_space height=”25px”][mk_gallery images=”4798\,4799\,4800\,4802\,4803″ style=”style1″][vc_empty_space height=”25px”][vc_btn title=”Register Now” color=”violet” css=”” link=”url:https%3A%2F%2Fhsmaime.org%2Fproduct%2Fttdxb%2F|title:Thirsty%20Thursday|target:_blank”][/vc_column][/vc_row][vc_row][vc_column][/vc_column][/vc_row]
URL:https://hsmaime.org/event/thirsty-thursdays-9/
LOCATION:The Courtyard\, Vida Creek Harbour\, Ground floor\, Vida Creek Harbour\, Dubai\, United Arab Emirates
CATEGORIES:Networking
ATTACH;FMTTYPE=image/png:https://hsmaime.org/wp-content/uploads/sites/22/2024/01/tt2-nov24-1200x1200-1.png
END:VEVENT
BEGIN:VEVENT
DTSTART;TZID=UTC:20241017T183000
DTEND;TZID=UTC:20241017T203000
DTSTAMP:20260422T154835
CREATED:20240109T052741Z
LAST-MODIFIED:20240823T065922Z
UID:4213-1729189800-1729197000@hsmaime.org
SUMMARY:Thirsty Thursday
DESCRIPTION:[vc_row][vc_column][vc_column_text]UAE’s Thirsty Thursday is the perfect midweek escape\, offering a refreshing break in some of Dubai’s most sophisticated venues. This event provides an excellent opportunity for networking and relaxation\, set against the backdrop of the city’s swankiest spots. Designed to bring together professionals from the hospitality industry\, Thirsty Thursday is a must-attend for anyone looking to unwind and connect in style. \nClick here to find out more.[/vc_column_text][/vc_column][/vc_row][vc_row][vc_column][vc_btn title=”Register Now” color=”violet” css=”” link=”url:https%3A%2F%2Fhsmaime.org%2Fproduct%2Fttdxb%2F|title:Thirsty%20Thursday|target:_blank”][/vc_column][/vc_row][vc_row][vc_column][vc_empty_space height=”25px”][/vc_column][/vc_row][vc_row][vc_column][mk_image src=”https://hsmaime.org/wp-content/uploads/sites/22/2024/01/why-attend-banner_tt.png” image_size=”full”][vc_empty_space height=”25px”][/vc_column][/vc_row][vc_row][vc_column][mk_gallery images=”4791\,4792\,4793\,4794\,4795″ style=”style1″ image_size=”full”][vc_empty_space height=”25px”][vc_btn title=”Register Now” color=”violet” css=”” link=”url:https%3A%2F%2Fhsmaime.org%2Fproduct%2Fttdxb%2F|title:Thirsty%20Thursday|target:_blank”][/vc_column][/vc_row]
URL:https://hsmaime.org/event/thirsty-thursdays-8/
LOCATION:Frenia\, voco Dubai The Palm\, Palm West Beach\, Dubai\, United Arab Emirates
CATEGORIES:Networking
ATTACH;FMTTYPE=image/png:https://hsmaime.org/wp-content/uploads/sites/22/2024/01/tt1-oct24-1200x1200-1.png
END:VEVENT
BEGIN:VEVENT
DTSTART;TZID=UTC:20240718T183000
DTEND;TZID=UTC:20240718T203000
DTSTAMP:20260422T154835
CREATED:20240109T042110Z
LAST-MODIFIED:20240702T112841Z
UID:4207-1721327400-1721334600@hsmaime.org
SUMMARY:Thirsty Thursday
DESCRIPTION:Thirsty Thursdays in the UAE \nHotel Members: AED75 | Hotel Non Members: AED125\nEach includes 2 thirst quenching refreshments and nibble
URL:https://hsmaime.org/event/thirsty-thursdays-5/
LOCATION:JB’s Gastropub\, Amwaj Rotana - Jumeirah Beach\, Dubai\, United Arab Emirates
CATEGORIES:Networking
ATTACH;FMTTYPE=image/png:https://hsmaime.org/wp-content/uploads/sites/22/2022/08/tt-july-2-1200x1200-1.png
END:VEVENT
BEGIN:VEVENT
DTSTART;TZID=Asia/Riyadh:20240131T190000
DTEND;TZID=Asia/Riyadh:20240131T210000
DTSTAMP:20260422T154835
CREATED:20240109T081845Z
LAST-MODIFIED:20240109T082632Z
UID:4226-1706727600-1706734800@hsmaime.org
SUMMARY:Qahwa Wednesday
DESCRIPTION:Our much-requested new social event KSA Qahwa Wednesday is scheduled for January 31\, 2024 in Riyadh and Jeddah. We aim to bring the KSA Hospitality Community together. Enjoy an after-hours gathering with hoteliers and network with professionals from commercial\, sales\, marketing\, and revenue optimization\, Additionally\, engage in an interactive “Ask Me Anything” session\, opening an opportunity for insightful discussions.
URL:https://hsmaime.org/event/qahwa-wednesday/
CATEGORIES:Networking
ATTACH;FMTTYPE=image/png:https://hsmaime.org/wp-content/uploads/sites/22/2024/01/ksa-kahwa-wednesday.png
END:VEVENT
BEGIN:VEVENT
DTSTART;TZID=UTC:20240131T160000
DTEND;TZID=UTC:20240131T170000
DTSTAMP:20260422T154835
CREATED:20240109T033441Z
LAST-MODIFIED:20240131T052123Z
UID:4185-1706716800-1706720400@hsmaime.org
SUMMARY:Certified in Hospitality Business Acumen (CHBA)
DESCRIPTION:Led by Heidi Anaya\, CHBA Head of Education at Russell Partnership\, the CHBA program offers a unique learning experience. Participants will step into the shoes of a Hotel General Manager\, facing real-time decisions on pricing strategies\, marketing and advertising campaigns\, staffing needs\, and capital investments within a competitive set of properties. This immersive 12-month business cycle simulation will provide invaluable insights and skills.
URL:https://hsmaime.org/event/certified-in-hospitality-business-acumen-chba-3/2024-01-31/
LOCATION:Virtual
CATEGORIES:Classes
ATTACH;FMTTYPE=image/png:https://hsmaime.org/wp-content/uploads/sites/22/2024/01/chba-jan-1200-1200-px.png
END:VEVENT
BEGIN:VEVENT
DTSTART;TZID=Asia/Dubai:20240123T140000
DTEND;TZID=Asia/Dubai:20240123T150000
DTSTAMP:20260422T154835
CREATED:20240109T040032Z
LAST-MODIFIED:20240109T040125Z
UID:4193-1706018400-1706022000@hsmaime.org
SUMMARY:Hotel Digital Marketing Essentials Series (HDME)
DESCRIPTION:Acquire a better understanding of the hospitality digital marketing concepts\, tools\, and techniques you need to know in 2024 by participating in a live collaborative education experience over 6 weeks.
URL:https://hsmaime.org/event/hotel-digital-marketing-essentials-series-hdme/2024-01-23/
LOCATION:Virtual
CATEGORIES:Classes
ATTACH;FMTTYPE=image/png:https://hsmaime.org/wp-content/uploads/sites/22/2024/01/hdme-jan-1200-1200-px.png
END:VEVENT
BEGIN:VEVENT
DTSTART;TZID=Asia/Riyadh:20230913T110000
DTEND;TZID=Asia/Riyadh:20230913T140000
DTSTAMP:20260422T154835
CREATED:20230522T032127Z
LAST-MODIFIED:20230922T112716Z
UID:3594-1694602800-1694613600@hsmaime.org
SUMMARY:Power Brunch\, Jeddah
DESCRIPTION:[vc_row][vc_column][vc_btn title=”Reserve your spot” color=”violet” i_icon_fontawesome=”fas fa-sign-in-alt” add_icon=”true” link=”url:https%3A%2F%2Fhsmaime.org%2Fproduct%2Fjedpower-breakfast-|target:_blank”][vc_column_text css=”.vc_custom_1695381873340{margin-bottom: 0px !important;}”]Discover the power of networking as you exchange ideas\, foster collaborations\, and unlock new business prospects.[/vc_column_text][vc_btn title=”Reserve your spot” color=”violet” i_icon_fontawesome=”fas fa-sign-in-alt” add_icon=”true” link=”url:https%3A%2F%2Fhsmaime.org%2Fproduct%2Fjedpower-breakfast-|target:_blank”][/vc_column][/vc_row]
URL:https://hsmaime.org/event/power-brunch-jeddah/
LOCATION:Crowne Plaza Jeddah Al Salam\, 7755 Prince Sultan Rd\, Al-Muhammadiyah District\, Jeddah\, 21352\, Saudi Arabia
CATEGORIES:Networking
ATTACH;FMTTYPE=image/jpeg:https://hsmaime.org/wp-content/uploads/sites/22/2022/02/ksa-pb_jeddah-300x300-1.jpg
END:VEVENT
BEGIN:VEVENT
DTSTART;TZID=UTC:20230911T110000
DTEND;TZID=UTC:20230911T140000
DTSTAMP:20260422T154835
CREATED:20230522T025948Z
LAST-MODIFIED:20230922T111050Z
UID:3590-1694430000-1694440800@hsmaime.org
SUMMARY:Power Brunch\, Riyadh
DESCRIPTION:[vc_row][vc_column][vc_btn title=”Reserve your spot” color=”violet” i_icon_fontawesome=”fas fa-sign-in-alt” add_icon=”true” link=”url:https%3A%2F%2Fhsmaime.org%2Fproduct%2Fruhpower-breakfast-|target:_blank”][vc_column_text css=”.vc_custom_1695381040576{margin-bottom: 0px !important;}”]Discover the power of networking as you exchange ideas\, foster collaborations\, and unlock new business prospects.[/vc_column_text][vc_btn title=”Reserve your spot” color=”violet” i_icon_fontawesome=”fas fa-sign-in-alt” add_icon=”true” link=”url:https%3A%2F%2Fhsmaime.org%2Fproduct%2Fruhpower-breakfast-|target:_blank”][/vc_column][/vc_row]
URL:https://hsmaime.org/event/power-brunch-riyadh/
LOCATION:Crowne Plaza RDC Hotel & Convention Center\, Wadi Al Muaydin\, Street\, Unit 4\, Imam Saud Ibn Abdul Aziz Road\, Riyadh\, 12382\, Saudi Arabia
CATEGORIES:Networking
ATTACH;FMTTYPE=image/jpeg:https://hsmaime.org/wp-content/uploads/sites/22/2022/08/ksa-pb_riyadh-300x300-1.jpg
END:VEVENT
END:VCALENDAR