BEGIN:VCALENDAR
VERSION:2.0
PRODID:-//HSMAI MEA - ECPv6.15.20//NONSGML v1.0//EN
CALSCALE:GREGORIAN
METHOD:PUBLISH
X-WR-CALNAME:HSMAI MEA
X-ORIGINAL-URL:https://hsmaime.org
X-WR-CALDESC:Events for HSMAI MEA
REFRESH-INTERVAL;VALUE=DURATION:PT1H
X-Robots-Tag:noindex
X-PUBLISHED-TTL:PT1H
BEGIN:VTIMEZONE
TZID:UTC
BEGIN:STANDARD
TZOFFSETFROM:+0000
TZOFFSETTO:+0000
TZNAME:UTC
DTSTART:20220101T000000
END:STANDARD
END:VTIMEZONE
BEGIN:VTIMEZONE
TZID:Asia/Dubai
BEGIN:STANDARD
TZOFFSETFROM:+0400
TZOFFSETTO:+0400
TZNAME:+04
DTSTART:20220101T000000
END:STANDARD
END:VTIMEZONE
BEGIN:VTIMEZONE
TZID:Asia/Riyadh
BEGIN:STANDARD
TZOFFSETFROM:+0300
TZOFFSETTO:+0300
TZNAME:+03
DTSTART:20220101T000000
END:STANDARD
END:VTIMEZONE
BEGIN:VEVENT
DTSTART;TZID=UTC:20241212T183000
DTEND;TZID=UTC:20241212T203000
DTSTAMP:20260420T122508
CREATED:20240109T053841Z
LAST-MODIFIED:20241105T124711Z
UID:4217-1734028200-1734035400@hsmaime.org
SUMMARY:Thirsty Thursday
DESCRIPTION:Thirsty Thursdays in the UAE \nHotel Members: AED 200 | Hotel Non Members: AED 250 Partner Member AED 300 | Partner Non Member AED 350\nEach includes 2 thirst quenching refreshments\, nibble\, and gameplay
URL:https://hsmaime.org/event/thirsty-thursdays-10/
LOCATION:TopGolf\, Emirates Golf Club\, Dubai
CATEGORIES:Networking
ATTACH;FMTTYPE=image/jpeg:https://hsmaime.org/wp-content/uploads/sites/22/2024/01/topgolf.jpg
END:VEVENT
BEGIN:VEVENT
DTSTART;TZID=UTC:20241017T183000
DTEND;TZID=UTC:20241017T203000
DTSTAMP:20260420T122508
CREATED:20240109T052741Z
LAST-MODIFIED:20240823T065922Z
UID:4213-1729189800-1729197000@hsmaime.org
SUMMARY:Thirsty Thursday
DESCRIPTION:[vc_row][vc_column][vc_column_text]UAE’s Thirsty Thursday is the perfect midweek escape\, offering a refreshing break in some of Dubai’s most sophisticated venues. This event provides an excellent opportunity for networking and relaxation\, set against the backdrop of the city’s swankiest spots. Designed to bring together professionals from the hospitality industry\, Thirsty Thursday is a must-attend for anyone looking to unwind and connect in style. \nClick here to find out more.[/vc_column_text][/vc_column][/vc_row][vc_row][vc_column][vc_btn title=”Register Now” color=”violet” css=”” link=”url:https%3A%2F%2Fhsmaime.org%2Fproduct%2Fttdxb%2F|title:Thirsty%20Thursday|target:_blank”][/vc_column][/vc_row][vc_row][vc_column][vc_empty_space height=”25px”][/vc_column][/vc_row][vc_row][vc_column][mk_image src=”https://hsmaime.org/wp-content/uploads/sites/22/2024/01/why-attend-banner_tt.png” image_size=”full”][vc_empty_space height=”25px”][/vc_column][/vc_row][vc_row][vc_column][mk_gallery images=”4791\,4792\,4793\,4794\,4795″ style=”style1″ image_size=”full”][vc_empty_space height=”25px”][vc_btn title=”Register Now” color=”violet” css=”” link=”url:https%3A%2F%2Fhsmaime.org%2Fproduct%2Fttdxb%2F|title:Thirsty%20Thursday|target:_blank”][/vc_column][/vc_row]
URL:https://hsmaime.org/event/thirsty-thursdays-8/
LOCATION:Frenia\, voco Dubai The Palm\, Palm West Beach\, Dubai\, United Arab Emirates
CATEGORIES:Networking
ATTACH;FMTTYPE=image/png:https://hsmaime.org/wp-content/uploads/sites/22/2024/01/tt1-oct24-1200x1200-1.png
END:VEVENT
BEGIN:VEVENT
DTSTART;TZID=UTC:20240807T160000
DTEND;TZID=UTC:20240807T170000
DTSTAMP:20260420T122508
CREATED:20240612T055548Z
LAST-MODIFIED:20240612T061629Z
UID:4666-1723046400-1723050000@hsmaime.org
SUMMARY:Certified in Hospitality Business Acumen (CHBA)
DESCRIPTION:
URL:https://hsmaime.org/event/certified-in-hospitality-business-acumen-chba-4/2024-08-07/
LOCATION:Online
CATEGORIES:Classes
ATTACH;FMTTYPE=image/png:https://hsmaime.org/wp-content/uploads/sites/22/2024/06/chba-class-2-1200x1200-1.png
END:VEVENT
BEGIN:VEVENT
DTSTART;TZID=UTC:20240718T183000
DTEND;TZID=UTC:20240718T203000
DTSTAMP:20260420T122508
CREATED:20240109T042110Z
LAST-MODIFIED:20240702T112841Z
UID:4207-1721327400-1721334600@hsmaime.org
SUMMARY:Thirsty Thursday
DESCRIPTION:Thirsty Thursdays in the UAE \nHotel Members: AED75 | Hotel Non Members: AED125\nEach includes 2 thirst quenching refreshments and nibble
URL:https://hsmaime.org/event/thirsty-thursdays-5/
LOCATION:JB’s Gastropub\, Amwaj Rotana - Jumeirah Beach\, Dubai\, United Arab Emirates
CATEGORIES:Networking
ATTACH;FMTTYPE=image/png:https://hsmaime.org/wp-content/uploads/sites/22/2022/08/tt-july-2-1200x1200-1.png
END:VEVENT
BEGIN:VEVENT
DTSTART;TZID=UTC:20240516T183000
DTEND;TZID=UTC:20240516T203000
DTSTAMP:20260420T122508
CREATED:20240109T041111Z
LAST-MODIFIED:20240513T091026Z
UID:4203-1715884200-1715891400@hsmaime.org
SUMMARY:Thirsty Thursday
DESCRIPTION:[vc_row][vc_column][vc_column_text]Thirsty Thursdays in the UAE \nHotel Members: AED75 | Hotel Non Members: AED125\nEach includes 2 thirst quenching refreshments and nibble[/vc_column_text][vc_btn title=”Register Now” color=”violet” css=”” link=”url:https%3A%2F%2Fhsmaime.org%2Fproduct%2Fttdxb%2F|title:Flair%205%20The%20Ritz-Carlton%20DIFC|target:_blank”][/vc_column][/vc_row]
URL:https://hsmaime.org/event/thirsty-thursdays-3/
LOCATION:Flair 5 The Ritz-Carlton DIFC\, DIFC\, Dubai\, United Arab Emirates
CATEGORIES:Networking
ATTACH;FMTTYPE=image/png:https://hsmaime.org/wp-content/uploads/sites/22/2024/01/tt1-2024-1200x1200-1.png
END:VEVENT
BEGIN:VEVENT
DTSTART;TZID=UTC:20240516T140000
DTEND;TZID=UTC:20240516T180000
DTSTAMP:20260420T122508
CREATED:20240306T111806Z
LAST-MODIFIED:20240306T111806Z
UID:4456-1715868000-1715882400@hsmaime.org
SUMMARY:Executive Roundtable by Invitation only
DESCRIPTION:Revenue Optimization Executive Roundtables provide an exclusive platform for senior hotel leaders\, specifically those overseeing sales\, marketing\, or revenue optimization. Limited to a select group of 12-15 executives from distinguished hotel brands\, management companies\, and ownership groups\, these roundtables facilitate the exchange of thought leadership content.
URL:https://hsmaime.org/event/executive-roundtable-by-invitation-only/
LOCATION:The Ritz-Carlton\, Dubai International Financial Centre\, DIFC\, off - Sheikh Zayed Rd\, Dubai\, United Arab Emirates
CATEGORIES:Roundtable
ATTACH;FMTTYPE=image/png:https://hsmaime.org/wp-content/uploads/sites/22/2024/03/1200-x-1200.png
END:VEVENT
BEGIN:VEVENT
DTSTART;TZID=UTC:20240418T183000
DTEND;TZID=UTC:20240418T203000
DTSTAMP:20260420T122508
CREATED:20240109T040739Z
LAST-MODIFIED:20240403T082010Z
UID:4201-1713465000-1713472200@hsmaime.org
SUMMARY:Thirsty Thursday
DESCRIPTION:UAE’s Thirsty Thursday offers a refreshing midweek break in some of Dubai’s swankiest venues\, with a special deal for hotel members at AED 75 and non-members at AED 125. Attendees can enjoy two thirst-quenching refreshments along with a delightful nibble\, making it a perfect opportunity for a relaxed and enjoyable evening.
URL:https://hsmaime.org/event/thirsty-thursdays-2/
LOCATION:Frenia\, voco Dubai The Palm\, Palm West Beach\, Dubai\, United Arab Emirates
CATEGORIES:Networking
ATTACH;FMTTYPE=image/png:https://hsmaime.org/wp-content/uploads/sites/22/2022/08/tt-apr-2024-1200x1200-1.png
END:VEVENT
BEGIN:VEVENT
DTSTART;TZID=UTC:20240321T181500
DTEND;TZID=UTC:20240321T203000
DTSTAMP:20260420T122508
CREATED:20240219T124014Z
LAST-MODIFIED:20240305T053618Z
UID:4412-1711044900-1711053000@hsmaime.org
SUMMARY:Iftar
DESCRIPTION:🌙✨ Join Us for a Special Iftar Gathering! ✨🌙 \nAs the holy month of Ramadan unfolds\, we invite you to join us for a heartwarming Iftar gathering\, where we come together in the spirit of unity\, gratitude\, and reflection.
URL:https://hsmaime.org/event/iftar/
LOCATION:Palettes\, ECOS Dubai Hotel Al Furjan\, 24GW+389 - Jebel Ali Village - Al Furjan\, Dubai\, United Arab Emirates
CATEGORIES:Networking
ATTACH;FMTTYPE=image/png:https://hsmaime.org/wp-content/uploads/sites/22/2024/02/tt-mar-iftar-dxb-2024-1200x1200-1.png
END:VEVENT
BEGIN:VEVENT
DTSTART;TZID=UTC:20240215T183000
DTEND;TZID=UTC:20240215T203000
DTSTAMP:20260420T122508
CREATED:20240109T032707Z
LAST-MODIFIED:20240119T100732Z
UID:4182-1708021800-1708029000@hsmaime.org
SUMMARY:View 180\, NH Collection Dubai The Palm
DESCRIPTION:Thirsty Thursdays in the UAE \nHotel Members: AED75 | Hotel Non Members: AED125\nEach includes 2 thirst quenching refreshments and nibble
URL:https://hsmaime.org/event/view-180-nh-collection-dubai-the-palm/
LOCATION:View 180\, NH Collection Dubai The Palm\, No. 220 (381-2730)\, Palm Jumeirah\, Dubai\, 567075\, United Arab Emirates
CATEGORIES:Networking
ATTACH;FMTTYPE=image/png:https://hsmaime.org/wp-content/uploads/sites/22/2024/01/tt-feb-2024-1200x1200-1.png
END:VEVENT
BEGIN:VEVENT
DTSTART;TZID=UTC:20240131T160000
DTEND;TZID=UTC:20240131T170000
DTSTAMP:20260420T122509
CREATED:20240109T033441Z
LAST-MODIFIED:20240131T052123Z
UID:4185-1706716800-1706720400@hsmaime.org
SUMMARY:Certified in Hospitality Business Acumen (CHBA)
DESCRIPTION:Led by Heidi Anaya\, CHBA Head of Education at Russell Partnership\, the CHBA program offers a unique learning experience. Participants will step into the shoes of a Hotel General Manager\, facing real-time decisions on pricing strategies\, marketing and advertising campaigns\, staffing needs\, and capital investments within a competitive set of properties. This immersive 12-month business cycle simulation will provide invaluable insights and skills.
URL:https://hsmaime.org/event/certified-in-hospitality-business-acumen-chba-3/2024-01-31/
LOCATION:Virtual
CATEGORIES:Classes
ATTACH;FMTTYPE=image/png:https://hsmaime.org/wp-content/uploads/sites/22/2024/01/chba-jan-1200-1200-px.png
END:VEVENT
BEGIN:VEVENT
DTSTART;TZID=Asia/Dubai:20240123T140000
DTEND;TZID=Asia/Dubai:20240123T150000
DTSTAMP:20260420T122509
CREATED:20240109T040032Z
LAST-MODIFIED:20240109T040125Z
UID:4193-1706018400-1706022000@hsmaime.org
SUMMARY:Hotel Digital Marketing Essentials Series (HDME)
DESCRIPTION:Acquire a better understanding of the hospitality digital marketing concepts\, tools\, and techniques you need to know in 2024 by participating in a live collaborative education experience over 6 weeks.
URL:https://hsmaime.org/event/hotel-digital-marketing-essentials-series-hdme/2024-01-23/
LOCATION:Virtual
CATEGORIES:Classes
ATTACH;FMTTYPE=image/png:https://hsmaime.org/wp-content/uploads/sites/22/2024/01/hdme-jan-1200-1200-px.png
END:VEVENT
BEGIN:VEVENT
DTSTART;TZID=UTC:20240118T183000
DTEND;TZID=UTC:20240118T203000
DTSTAMP:20260420T122509
CREATED:20240109T031541Z
LAST-MODIFIED:20240109T031541Z
UID:4180-1705602600-1705609800@hsmaime.org
SUMMARY:Skafos\, Canopy by Hilton Dubai Al Seef
DESCRIPTION:
URL:https://hsmaime.org/event/skafos-canopy-by-hilton-dubai-al-seef/
LOCATION:Skafos\, Canopy by Hilton Dubai Al Seef\, Umm Hurair 1\, Dubai\, United Arab Emirates
CATEGORIES:Networking
ATTACH;FMTTYPE=image/png:https://hsmaime.org/wp-content/uploads/sites/22/2022/08/tt1-jan2024-1200x1200-1.png
END:VEVENT
BEGIN:VEVENT
DTSTART;TZID=UTC:20231214T183000
DTEND;TZID=UTC:20231214T203000
DTSTAMP:20260420T122509
CREATED:20231201T091430Z
LAST-MODIFIED:20231211T173957Z
UID:4144-1702578600-1702585800@hsmaime.org
SUMMARY:Nuska Terrace\, Beachfront Jumeirah Beach Hotel
DESCRIPTION:
URL:https://hsmaime.org/event/nuska-jumeirah-beach-hotel/
LOCATION:Nuska Terrace\, Beachfront\, Dubai
CATEGORIES:Networking
ATTACH;FMTTYPE=image/png:https://hsmaime.org/wp-content/uploads/sites/22/2023/12/tt-jul23-1-1200-1200-px-2.png
END:VEVENT
BEGIN:VEVENT
DTSTART;TZID=UTC:20231128T090000
DTEND;TZID=UTC:20231129T180000
DTSTAMP:20260420T122509
CREATED:20230905T120951Z
LAST-MODIFIED:20230905T120951Z
UID:3878-1701162000-1701280800@hsmaime.org
SUMMARY:ROC Middle East
DESCRIPTION:Hospitality Sales and Marketing Association International – Middle East (HSMAI ME) is scaling up for the 6th annual Commercial Strategy Conference and this year’s event is in-person\, providing invaluable opportunities for knowledge exchange and networking\, face-to-face with industry peers. The event is staged at the Conrad Dubai Hotel\, from November 28-29\, 2023. \nThis year’s theme is ‘Connect\, Evolve\, Lead’ and is perhaps what past attendees would say\, the ‘unmissable’ event of the year!
URL:https://hsmaime.org/event/roc-middle-east/
LOCATION:Conrad Dubai\, Sheikh Zayed Rd - Trade Centre - Trade Centre 1\, Dubai\, United Arab Emirates
CATEGORIES:Conference
ATTACH;FMTTYPE=image/png:https://hsmaime.org/wp-content/uploads/sites/22/2023/09/300-x-300px-i-generic-hsmai-event-page.png
END:VEVENT
BEGIN:VEVENT
DTSTART;TZID=UTC:20231126T090000
DTEND;TZID=UTC:20231127T170000
DTSTAMP:20260420T122509
CREATED:20231025T071346Z
LAST-MODIFIED:20231025T080036Z
UID:4119-1700989200-1701104400@hsmaime.org
SUMMARY:In-Person Certified in Hospitality Business Acumen (CHBA)
DESCRIPTION:Led by Heidi Anaya\, Head of Education at Russell Partnership\, the CHBA program offers a unique learning experience. Participants will step into the shoes of a Hotel General Manager\, facing real-time decisions on pricing strategies\, marketing and advertising campaigns\, staffing needs\, and capital investments within a competitive set of properties. This immersive 12-month business cycle simulation will provide invaluable insights and skills. \nRegistration options: \nCHBA only Registration Fee: USD 1445 per person.\nSpecial ROC ME Passes + CHBA: USD 2040 per person. \nRegister NOW!
URL:https://hsmaime.org/event/in-person-certified-in-hospitality-business-acumen-chba/
LOCATION:Conrad Dubai\, Sheikh Zayed Rd - Trade Centre - Trade Centre 1\, Dubai\, United Arab Emirates
CATEGORIES:Classes
ATTACH;FMTTYPE=image/png:https://hsmaime.org/wp-content/uploads/sites/22/2023/10/chba-roc-1200x1200-2.png
END:VEVENT
BEGIN:VEVENT
DTSTART;TZID=UTC:20231116T183000
DTEND;TZID=UTC:20231116T203000
DTSTAMP:20260420T122509
CREATED:20230601T083658Z
LAST-MODIFIED:20230601T083701Z
UID:3658-1700159400-1700166600@hsmaime.org
SUMMARY:TT DXB - Pure Sky Lounge & Dining\, Hilton Dubai The Walk
DESCRIPTION:
URL:https://hsmaime.org/event/tt-dxb-pure-sky-lounge-dining-hilton-dubai-the-walk/
LOCATION:Pure Sky Lounge & Dining\, Hilton Dubai The Walk\, Dubai\, United Arab Emirates
CATEGORIES:Networking
ATTACH;FMTTYPE=image/png:https://hsmaime.org/wp-content/uploads/sites/22/2023/06/tt-nov-23-1-300-300-px.png
END:VEVENT
BEGIN:VEVENT
DTSTART;TZID=Asia/Dubai:20231025T160000
DTEND;TZID=Asia/Dubai:20231025T170000
DTSTAMP:20260420T122509
CREATED:20230710T134235Z
LAST-MODIFIED:20230822T091348Z
UID:3729-1698249600-1698253200@hsmaime.org
SUMMARY:Certified in Hospitality Business Acumen (CHBA) - Instructor-Led 5-week Class
DESCRIPTION:The course enables participants to demonstrate their hospitality business acumen proficiency\, upgrade their skills\, and drives an elevated understanding of the hospitality industry and how it operates. It demonstrates to your employer and your professional community that you’re committed to advancing your knowledge\, skillset\, and expertise.
URL:https://hsmaime.org/event/certified-in-hospitality-business-acumen-chba-2/2023-10-25/
LOCATION:Online Web Series
CATEGORIES:Classes
ATTACH;FMTTYPE=image/jpeg:https://hsmaime.org/wp-content/uploads/sites/22/2022/11/chba-1.jpeg
END:VEVENT
BEGIN:VEVENT
DTSTART;TZID=UTC:20231019T183000
DTEND;TZID=UTC:20231019T203000
DTSTAMP:20260420T122509
CREATED:20230601T081859Z
LAST-MODIFIED:20230922T110049Z
UID:3653-1697740200-1697747400@hsmaime.org
SUMMARY:TT DXB - Fluid Beach Club\, Th8 Palm Dubai
DESCRIPTION:[vc_row][vc_column][mk_button corner_style=”rounded” size=”medium” url=”https://hsmaime.org/product/ttdxb/” bg_color=”#663399″]Register Now[/mk_button][/vc_column][/vc_row]
URL:https://hsmaime.org/event/tt-dxb-hilton-jbr/
LOCATION:Fluid Beach Club\, Crescent Road West Palm Jumeirah\, Dubai\, 62562\, United Arab Emirates
CATEGORIES:Networking
ATTACH;FMTTYPE=image/png:https://hsmaime.org/wp-content/uploads/sites/22/2023/06/tt-oct-23-1-1200-1200-px.png
END:VEVENT
BEGIN:VEVENT
DTSTART;TZID=UTC:20231017T140000
DTEND;TZID=UTC:20231017T150000
DTSTAMP:20260420T122509
CREATED:20230311T064427Z
LAST-MODIFIED:20230822T090508Z
UID:3323-1697551200-1697554800@hsmaime.org
SUMMARY:Hotel Digital Marketing Essentials Series (HDME) - Instructor-Led 6-week Class
DESCRIPTION:To learn more and sign up\, click here
URL:https://hsmaime.org/event/hotel-digital-marketing-essentials-series/2023-10-17/
LOCATION:Online Web Series
CATEGORIES:Classes
ATTACH;FMTTYPE=image/png:https://hsmaime.org/wp-content/uploads/sites/22/2022/11/1.png
END:VEVENT
BEGIN:VEVENT
DTSTART;TZID=UTC:20230921T183000
DTEND;TZID=UTC:20230921T203000
DTSTAMP:20260420T122509
CREATED:20230531T093133Z
LAST-MODIFIED:20230919T112747Z
UID:3647-1695321000-1695328200@hsmaime.org
SUMMARY:TT DXB - Monkey Bar\, 25hours Hotel One Central
DESCRIPTION:
URL:https://hsmaime.org/event/tt-dxb-ernst-biergarten-wirtshaus-25hours-hotel-one-central/
LOCATION:Monkey Bar\, 25hours Hotel One Central\, Dubai\, United Arab Emirates
CATEGORIES:Networking
ATTACH;FMTTYPE=image/png:https://hsmaime.org/wp-content/uploads/sites/22/2023/05/tt-sep-23-3-1200-1200-px.png
END:VEVENT
BEGIN:VEVENT
DTSTART;TZID=UTC:20230817T183000
DTEND;TZID=UTC:20230817T203000
DTSTAMP:20260420T122509
CREATED:20230531T092651Z
LAST-MODIFIED:20230531T092651Z
UID:3643-1692297000-1692304200@hsmaime.org
SUMMARY:TT DXB - Joe's Backyard\, Holiday Inn DFC
DESCRIPTION:
URL:https://hsmaime.org/event/thirsty-thursdays/
LOCATION:Joe’s Backyard\, 19th floor Holiday Inn Dubai Festival City\, Dubai\, United Arab Emirates
CATEGORIES:Networking
ATTACH;FMTTYPE=image/png:https://hsmaime.org/wp-content/uploads/sites/22/2023/05/tt-aug23-1-300-300-px.png
END:VEVENT
BEGIN:VEVENT
DTSTART;TZID=UTC:20230720T183000
DTEND;TZID=UTC:20230720T203000
DTSTAMP:20260420T122509
CREATED:20230531T091425Z
LAST-MODIFIED:20230531T091425Z
UID:3639-1689877800-1689885000@hsmaime.org
SUMMARY:TT DXB - Trader Vic's\, Hilton Dubai Palm Jumeirah
DESCRIPTION:
URL:https://hsmaime.org/event/tt-dxb-trader-vics-hilton-dubai-palm-jumeirah/
LOCATION:Trader Vic’s Palm Jumeirah\, Lobby Level\, Palm West Beach - The Palm Jumeirah\, Dubai\, United Arab Emirates
CATEGORIES:Networking
ATTACH;FMTTYPE=image/png:https://hsmaime.org/wp-content/uploads/sites/22/2023/05/tt-jul23-1-300-300-px-1.png
END:VEVENT
BEGIN:VEVENT
DTSTART;TZID=Asia/Dubai:20230615T183000
DTEND;TZID=Asia/Dubai:20230615T203000
DTSTAMP:20260420T122509
CREATED:20230519T093029Z
LAST-MODIFIED:20230613T083803Z
UID:3586-1686853800-1686861000@hsmaime.org
SUMMARY:TT DXB - Maison Mathis\, voco The Palm
DESCRIPTION:
URL:https://hsmaime.org/event/tt-dxb-maison-mathis-voco-the-palm/
LOCATION:Maison Mathis\, voco Dubai The Palm Palm West Beach Palm Jumeriah\, Dubai\, United Arab Emirates
CATEGORIES:Networking
ATTACH;FMTTYPE=image/png:https://hsmaime.org/wp-content/uploads/sites/22/2023/05/tt-jul23-1-300-300-px.png
END:VEVENT
BEGIN:VEVENT
DTSTART;TZID=UTC:20230607T170000
DTEND;TZID=UTC:20230607T180000
DTSTAMP:20260420T122509
CREATED:20230210T055752Z
LAST-MODIFIED:20230210T055752Z
UID:3133-1686157200-1686160800@hsmaime.org
SUMMARY:Certified in Hospitality Business Acumen (CHBA)
DESCRIPTION:
URL:https://hsmaime.org/event/certified-in-hospitality-business-acumen-chba/2023-06-07/
LOCATION:Online Web Series
CATEGORIES:Classes
ATTACH;FMTTYPE=image/jpeg:https://hsmaime.org/wp-content/uploads/sites/22/2022/11/chba-1.jpeg
END:VEVENT
BEGIN:VEVENT
DTSTART;TZID=UTC:20230522T090000
DTEND;TZID=UTC:20230523T170000
DTSTAMP:20260420T122509
CREATED:20230310T134317Z
LAST-MODIFIED:20230515T062102Z
UID:3309-1684746000-1684861200@hsmaime.org
SUMMARY:Total Hotel Revenue Management (THRM)
DESCRIPTION:[vc_row][vc_column][vc_column_text css=”.vc_custom_1684131662307{margin-bottom: 0px !important;}”]\nA 2-day interactive seminar on Total Hotel Revenue Management (THRM)\nBy Dr. Sherri Kimes\n  \nClick here to learn more and sign up.[/vc_column_text][/vc_column][/vc_row]
URL:https://hsmaime.org/event/total-hotel-revenue-management-thrm/2023-05-22/
CATEGORIES:Classes
ATTACH;FMTTYPE=image/png:https://hsmaime.org/wp-content/uploads/sites/22/2023/03/total-hotel-revenue-management-workshop-may-2023-1200x1200-300-300-px-2.png
END:VEVENT
BEGIN:VEVENT
DTSTART;TZID=UTC:20230518T183000
DTEND;TZID=UTC:20230518T203000
DTSTAMP:20260420T122509
CREATED:20221124T193713Z
LAST-MODIFIED:20230509T063936Z
UID:2859-1684434600-1684441800@hsmaime.org
SUMMARY:TT AUH - Impressions Bar\, Anantara Eastern Mangroves Hotel
DESCRIPTION:[vc_row][vc_column][vc_btn title=”Register Now” color=”violet” i_icon_fontawesome=”fas fa-sign-in-alt” add_icon=”true” link=”url:https%3A%2F%2Fhsmaime.org%2Fproduct%2Fttauh%2F”][/vc_column][/vc_row]
URL:https://hsmaime.org/event/tt-abu-dhabi-2/
LOCATION:Anantara Eastern Mangroves Abu Dhabi\, Sheikh Zayed Street\,\, Abu Dhabi\, 128555\, United Arab Emirates
CATEGORIES:Networking
ATTACH;FMTTYPE=image/png:https://hsmaime.org/wp-content/uploads/sites/22/2023/02/impressions-bar-300-300-px.png
END:VEVENT
BEGIN:VEVENT
DTSTART;TZID=UTC:20230518T183000
DTEND;TZID=UTC:20230518T203000
DTSTAMP:20260420T122509
CREATED:20221124T193317Z
LAST-MODIFIED:20230509T063151Z
UID:2857-1684434600-1684441800@hsmaime.org
SUMMARY:TT DXB - Windows Bar\, voco Dubai
DESCRIPTION:[vc_row][vc_column][vc_btn title=”Register Now” color=”violet” i_icon_fontawesome=”fas fa-sign-in-alt” add_icon=”true” link=”url:https%3A%2F%2Fhsmaime.org%2Fproduct%2Fttdxb%2F”][/vc_column][/vc_row]
URL:https://hsmaime.org/event/tt-dxb-windows-bar-voco-dubai/
LOCATION:Windows Bar\, voco Dubai\, Dubai\, United Arab Emirates
CATEGORIES:Networking
ATTACH;FMTTYPE=image/png:https://hsmaime.org/wp-content/uploads/sites/22/2023/02/windows-bar-300-x-300-px.png
END:VEVENT
BEGIN:VEVENT
DTSTART;TZID=Asia/Riyadh:20230508T090000
DTEND;TZID=Asia/Riyadh:20230508T120000
DTSTAMP:20260420T122509
CREATED:20221126T200100Z
LAST-MODIFIED:20230425T102716Z
UID:2870-1683536400-1683547200@hsmaime.org
SUMMARY:KSA Power Breakfast - Riyadh
DESCRIPTION:[vc_row][vc_column][vc_btn title=”REGISTER NOW” color=”violet” size=”lg” i_icon_fontawesome=”fas fa-sign-in-alt” add_icon=”true” link=”url:https%3A%2F%2Fhsmaime.org%2Fproduct%2Fruhpower-breakfast-%25d8%25a7%25d9%2586%25d8%25b7%25d9%2584%25d8%25a7%25d9%2582%25d8%25a9-%25d8%25a7%25d9%2584%25d8%25b5%25d8%25a8%25d8%25a7%25d8%25ad%2F”][/vc_column][/vc_row]
URL:https://hsmaime.org/event/ksa-power-breakfast-riyadh-3/
CATEGORIES:Networking
ATTACH;FMTTYPE=image/jpeg:https://hsmaime.org/wp-content/uploads/sites/22/2022/11/riyadh-300-x-300-px-en.jpg
END:VEVENT
BEGIN:VEVENT
DTSTART;TZID=UTC:20230405T203000
DTEND;TZID=UTC:20230405T220000
DTSTAMP:20260420T122509
CREATED:20230223T081220Z
LAST-MODIFIED:20230330T101537Z
UID:3245-1680726600-1680732000@hsmaime.org
SUMMARY:Suhoor - Amwaj Rotana
DESCRIPTION:[vc_row][vc_column][mk_button corner_style=”rounded” size=”large” icon=”mk-icon-sign-in” url=”https://hsmaime.org/product/suhoor/” bg_color=”#663399″]Book your slot[/mk_button][/vc_column][/vc_row]
URL:https://hsmaime.org/event/suhoor-amwaj-rotana/
LOCATION:Amwaj Rotana\, Jumeirah Beach Residence\, Dubai\, P.O. Box 86834\, United Arab Emirates
CATEGORIES:Networking
ATTACH;FMTTYPE=image/png:https://hsmaime.org/wp-content/uploads/sites/22/2023/02/tt-apr-23-2-300-300-px.png
END:VEVENT
BEGIN:VEVENT
DTSTART;TZID=UTC:20230320T150000
DTEND;TZID=UTC:20230320T183000
DTSTAMP:20260420T122509
CREATED:20230309T080130Z
LAST-MODIFIED:20230309T080130Z
UID:3301-1679324400-1679337000@hsmaime.org
SUMMARY:Executive Roundtables - By Invitation only
DESCRIPTION:HSMAI Executive Roundtables are networks of like-minded senior hotel leaders that meet face-to-face and virtually. They are a unique opportunity for executive-level peer groups to have meaningful dialogue in a confidential environment. \nEach agenda is designed based on extensive input from invitees around the topics that are most important for them to discuss with their peers. \nAll Roundtables are by invitation only. Individuals are invited based on their specific role at a specific company (determined by company type and number of hotels in the company’s portfolio). Invitations are non-transferable.
URL:https://hsmaime.org/event/executive-roundtables/
LOCATION:Rixos Premium Dubai JBR\, The Walk Jbr Jumeirah Beach Residence Al Mamsha Street\, Dubai\, 643660\, United Arab Emirates
CATEGORIES:Roundtable
ATTACH;FMTTYPE=image/png:https://hsmaime.org/wp-content/uploads/sites/22/2023/03/executive-roundtable-300x300-1.png
END:VEVENT
END:VCALENDAR