BEGIN:VCALENDAR
VERSION:2.0
PRODID:-//HSMAI MEA - ECPv6.15.20//NONSGML v1.0//EN
CALSCALE:GREGORIAN
METHOD:PUBLISH
X-WR-CALNAME:HSMAI MEA
X-ORIGINAL-URL:https://hsmaime.org
X-WR-CALDESC:Events for HSMAI MEA
REFRESH-INTERVAL;VALUE=DURATION:PT1H
X-Robots-Tag:noindex
X-PUBLISHED-TTL:PT1H
BEGIN:VTIMEZONE
TZID:UTC
BEGIN:STANDARD
TZOFFSETFROM:+0000
TZOFFSETTO:+0000
TZNAME:UTC
DTSTART:20240101T000000
END:STANDARD
END:VTIMEZONE
BEGIN:VEVENT
DTSTART;TZID=UTC:20251120T183000
DTEND;TZID=UTC:20251120T203000
DTSTAMP:20260424T132537
CREATED:20250825T063549Z
LAST-MODIFIED:20250911T113401Z
UID:5637-1763663400-1763670600@hsmaime.org
SUMMARY:Thirsty Thursday
DESCRIPTION:HSMAI MEA’s Thirsty Thursday is the perfect midweek escape\, offering a refreshing break in some of Dubai’s most sophisticated venues. This event provides an excellent opportunity for networking and relaxation\, set against the backdrop of the city’s swankiest spots. Designed to bring together professionals from the hospitality industry\, Thirsty Thursday is a must-attend for anyone looking to unwind and connect in style.
URL:https://hsmaime.org/event/thirsty-thursday-12/
LOCATION:Media Rotana\, Hessa St - Barsha Heights - Dubai\, Dubai\, United Arab Emirates
CATEGORIES:Networking
ATTACH;FMTTYPE=image/png:https://hsmaime.org/wp-content/uploads/sites/22/2025/08/11-nov-1.png
END:VEVENT
END:VCALENDAR